BEGIN:VCALENDAR
VERSION:2.0
PRODID:-//Uudenkaupungin Kunnalliset JHL ry 614 - ECPv6.8.2//NONSGML v1.0//EN
CALSCALE:GREGORIAN
METHOD:PUBLISH
X-ORIGINAL-URL:https://jhluusikaupunki614.fi
X-WR-CALDESC:Events for Uudenkaupungin Kunnalliset JHL ry 614
REFRESH-INTERVAL;VALUE=DURATION:PT1H
X-Robots-Tag:noindex
X-PUBLISHED-TTL:PT1H
BEGIN:VTIMEZONE
TZID:Europe/Helsinki
BEGIN:DAYLIGHT
TZOFFSETFROM:+0200
TZOFFSETTO:+0300
TZNAME:EEST
DTSTART:20210328T010000
END:DAYLIGHT
BEGIN:STANDARD
TZOFFSETFROM:+0300
TZOFFSETTO:+0200
TZNAME:EET
DTSTART:20211031T010000
END:STANDARD
END:VTIMEZONE
BEGIN:VEVENT
DTSTART;TZID=Europe/Helsinki:20211211T180000
DTEND;TZID=Europe/Helsinki:20211211T180000
DTSTAMP:20260424T052015
CREATED:20211022T083641Z
LAST-MODIFIED:20211022T084010Z
UID:737-1639245600-1639245600@jhluusikaupunki614.fi
SUMMARY:Mannapuuroa ja mansikkaa - Teatteriesitys ja jouluruokailu jäsenille
DESCRIPTION:Mannapuuroa ja mansikkaa – musikaali ystävyydestä\, rakkaudesta ja ylivertaisesta ysäristä. \nSiinä täytyy olla rakkautta\, siinä täytyy olla unelmii… Niitä\, ja paljon muuta tarjoilee Uudenkaupungin Teatterin suurmusikaali Mannapuuroa ja mansikkaa. \nNeon 2 -yhtyeen musiikin ympärille rakennettu tarina seilaa risteilylle yhdessä kouluaikaisten ystävysten kanssa\, jotka muistelevat nuoruuttaan 90-luvun alun pikkukaupungissa. Opettajien jallittamisen\, taskulämpimän kiljun juomisen ja tulevaisuudesta haaveilun lisäksi yhden kevään ja kesän aikana ehditään kokea kaikki ihmiselon suurimmat tunteet ensirakkaudesta pettymyksiin. \nUudenkaupungin kunnalliset JHL ry os. 614 tarjoaa jäsenilleen teatteriesityksen ja jouluruokailun teatterin jälkeen. \nLauantaina 11.12.2021 klo 18.00 alkavaan näytökseen. Lippuja varattu rajallinen määrä. \nSitovat ilmoittautumiset 14.11.2021 mennessä: \nHeidi Riekkinen\nheidi.riekkinen@uusikaupunki.fi tai\n050-5334140
URL:https://jhluusikaupunki614.fi/tapahtuma/mannapuuroa-ja-mansikkaa-teatteriesitys-ja-jouluruokailu-jasenille/
LOCATION:Uudenkaupungin Teatteri\, Kullervontie 11\, Uusikaupunki\, 23500\, Suomi
END:VEVENT
END:VCALENDAR